BEGIN:VCALENDAR
PRODID:brasil.gov.agenda
VERSION:1.0
BEGIN:VEVENT
DTSTART:20201117T080000Z
DTEND:20201117T090000Z
DCREATED:20201116T123937Z
UID:Compromisso-42530336c78d4125a367caaf91d062d2
SEQUENCE:0
LAST-MODIFIED:20201116T124048Z
SUMMARY:Visita ao setor de Olericultura - Faculdade de Ciências Agrárias (FCA)
LOCATION:Prédio FCA
PRIORITY:3
TRANSP:0
END:VEVENT
END:VCALENDAR
