BEGIN:VCALENDAR
PRODID:brasil.gov.agenda
VERSION:1.0
BEGIN:VEVENT
DTSTART:20201117T100000Z
DTEND:20201117T103000Z
DCREATED:20201116T123630Z
UID:Compromisso-fd287c2e1d52454ea76827fc4da51622
SEQUENCE:0
LAST-MODIFIED:20201116T123630Z
SUMMARY:Reunião com a Faculdade de Ciências Agrárias (FCA)
DESCRIPTION:Espaços
LOCATION:Compromisso on-line
PRIORITY:3
TRANSP:0
END:VEVENT
END:VCALENDAR
