BEGIN:VCALENDAR
PRODID:brasil.gov.agenda
VERSION:1.0
BEGIN:VEVENT
DTSTART:20201113T150000Z
DTEND:20201113T160000Z
DCREATED:20201113T143724Z
UID:Compromisso-49b3bc23dd6e402484bfb356dfe1d659
SEQUENCE:0
LAST-MODIFIED:20201113T143757Z
SUMMARY:Reunião de Alinhamento Interno
DESCRIPTION:Políticas de Governança\, Integridade e Controle de Risc
 os
LOCATION:Reitoria
PRIORITY:3
TRANSP:0
END:VEVENT
END:VCALENDAR
