BEGIN:VCALENDAR
PRODID:brasil.gov.agenda
VERSION:1.0
BEGIN:VEVENT
DTSTART:20201113T080000Z
DTEND:20201113T090000Z
DCREATED:20201109T164513Z
UID:Compromisso-84512d98bf0c44eaa023325b02e6666e
SEQUENCE:0
LAST-MODIFIED:20201109T164616Z
SUMMARY:Reunião com o Instituto de Ciência e Tecnologia ICT e a Faculdade de Ciências Agrárias
DESCRIPTION:Situação da desocupação do bloco VII - Cadeia de Produ
 ção
LOCATION:Reitoria
PRIORITY:3
TRANSP:0
END:VEVENT
END:VCALENDAR
