BEGIN:VCALENDAR
PRODID:brasil.gov.agenda
VERSION:1.0
BEGIN:VEVENT
DTSTART:20201112T110000Z
DTEND:20201112T120000Z
DCREATED:20201111T191445Z
UID:Compromisso-1742777747174fa98657a02bdfd01ba6
SEQUENCE:0
LAST-MODIFIED:20201111T191445Z
SUMMARY:Reunião com as Comissões Permanentes Institucionais
DESCRIPTION:Organização do atendimento e funcionamento de comissões
  institucionais
LOCATION:Reitoria
PRIORITY:3
TRANSP:0
END:VEVENT
END:VCALENDAR
