BEGIN:VCALENDAR
PRODID:brasil.gov.agenda
VERSION:1.0
BEGIN:VEVENT
DTSTART:20201030T000000Z
DTEND:20201030T000000Z
DCREATED:20201031T132802Z
UID:Compromisso-3d99dcd5824847a1924d37f102d1544d
SEQUENCE:0
LAST-MODIFIED:20201031T132803Z
SUMMARY:Ponto facultativo -  OFÍCIO-CIRCULAR Nº 46/2020/CHEFIA/SE/SE-MEC
LOCATION:Reitoria
PRIORITY:3
TRANSP:0
END:VEVENT
END:VCALENDAR
