BEGIN:VCALENDAR
PRODID:brasil.gov.agenda
VERSION:1.0
BEGIN:VEVENT
DTSTART:20201029T080000Z
DTEND:20201029T090000Z
DCREATED:20201028T151147Z
UID:Compromisso-e934b7eaa11c4264b5f7eb196ff6d6cf
SEQUENCE:0
LAST-MODIFIED:20201028T151216Z
SUMMARY:Reunião Estratégica das Pró-Reitorias e outras áreas
DESCRIPTION:Gestão Administrativa
LOCATION:Reitoria
PRIORITY:3
TRANSP:0
END:VEVENT
END:VCALENDAR
