BEGIN:VCALENDAR
PRODID:brasil.gov.agenda
VERSION:1.0
BEGIN:VEVENT
DTSTART:20201029T100000Z
DTEND:20201029T120000Z
DCREATED:20201028T151453Z
UID:Compromisso-f59f1d84934d415cab45d52727029fb8
SEQUENCE:0
LAST-MODIFIED:20201029T113730Z
SUMMARY:[ADIADA] Reunião com os Pró-reitores\, Diretores de Unidade Acadêmica\, CPBIO
DESCRIPTION:Planejamento institucional para semestres letivos regulare
 s de 2021.
LOCATION:Compromisso on-line
PRIORITY:3
TRANSP:0
END:VEVENT
END:VCALENDAR
