BEGIN:VCALENDAR
PRODID:brasil.gov.agenda
VERSION:1.0
BEGIN:VEVENT
DTSTART:20201029T140000Z
DTEND:20201029T150000Z
DCREATED:20201028T151827Z
UID:Compromisso-dcf9e3540e0b4d41b09cff0b44de4fb8
SEQUENCE:0
LAST-MODIFIED:20201028T151827Z
SUMMARY:Reunião com as Comissões Institucionais
DESCRIPTION:Organização do atendimento e funcionamento de  comissõe
 s institucionais.
LOCATION:Reitoria
PRIORITY:3
TRANSP:0
END:VEVENT
END:VCALENDAR
