BEGIN:VCALENDAR
PRODID:brasil.gov.agenda
VERSION:1.0
BEGIN:VEVENT
DTSTART:20201028T110000Z
DTEND:20201028T120000Z
DCREATED:20201028T145842Z
UID:Compromisso-72c85506c7e841bb8683f8dfb343080d
SEQUENCE:0
LAST-MODIFIED:20201028T145842Z
SUMMARY:Reunião com as pró-reitorias PROAD e PROPLAN
DESCRIPTION:Alinhamento das atividades
LOCATION:Reitoria
PRIORITY:3
TRANSP:0
END:VEVENT
END:VCALENDAR
