BEGIN:VCALENDAR
PRODID:brasil.gov.agenda
VERSION:1.0
BEGIN:VEVENT
DTSTART:20201028T100000Z
DTEND:20201028T110000Z
DCREATED:20201028T145403Z
UID:Compromisso-7647851dd1e44b58be3ff7848baaa7eb
SEQUENCE:0
LAST-MODIFIED:20201028T150022Z
SUMMARY:Reunião com a Pró-Reitoria de Gestão de Pessoas (PROGEP)
DESCRIPTION:Alinhamento das atividades
LOCATION:Reitoria
PRIORITY:3
TRANSP:0
END:VEVENT
END:VCALENDAR
