BEGIN:VCALENDAR
PRODID:brasil.gov.agenda
VERSION:1.0
BEGIN:VEVENT
DTSTART:20201028T140000Z
DTEND:20201028T190000Z
DCREATED:20201028T151012Z
UID:Compromisso-9d1659a28b50465f82a72fd268b5e580
SEQUENCE:0
LAST-MODIFIED:20201028T151012Z
SUMMARY:Despachos Internos
LOCATION:Reitoria
PRIORITY:3
TRANSP:0
END:VEVENT
END:VCALENDAR
