BEGIN:VCALENDAR
PRODID:brasil.gov.agenda
VERSION:1.0
BEGIN:VEVENT
DTSTART:20201026T080000Z
DTEND:20201026T100000Z
DCREATED:20201026T111617Z
UID:Compromisso-fce0629434ef49cab19670a36457a270
SEQUENCE:0
LAST-MODIFIED:20201026T111617Z
SUMMARY:Reunião do Comitê de Governança\, Integridade\, Riscos e Controles (CGIRC)
LOCATION:Reitoria
PRIORITY:3
TRANSP:0
END:VEVENT
END:VCALENDAR
