BEGIN:VCALENDAR
PRODID:brasil.gov.agenda
VERSION:1.0
BEGIN:VEVENT
DTSTART:20201026T100000Z
DTEND:20201026T120000Z
DCREATED:20201026T140006Z
UID:Compromisso-f23675d2264a46e591ba45ad27f1b821
SEQUENCE:0
LAST-MODIFIED:20201026T140225Z
SUMMARY:Reunião com os Pró-reitores da UFVJM
DESCRIPTION:Alinhamento das atividades
LOCATION:Reitoria
PRIORITY:3
TRANSP:0
END:VEVENT
END:VCALENDAR
