BEGIN:VCALENDAR
PRODID:brasil.gov.agenda
VERSION:1.0
BEGIN:VEVENT
DTSTART:20201026T150000Z
DTEND:20201026T160000Z
DCREATED:20201026T111746Z
UID:Compromisso-db825e6a4bd142dcaa2479853fd2b797
SEQUENCE:0
LAST-MODIFIED:20201026T135805Z
SUMMARY:Reunião com Membros da Coordenação e da Gestão político-social da Educação do Campo - Conselho Consultivo
DESCRIPTION:Desafios da Educação do Campo e da Pedagogia da Alternâ
 ncia
LOCATION:Reitoria
PRIORITY:3
TRANSP:0
END:VEVENT
END:VCALENDAR
