BEGIN:VCALENDAR
PRODID:brasil.gov.agenda
VERSION:1.0
BEGIN:VEVENT
DTSTART:20201026T160000Z
DTEND:20201026T170000Z
DCREATED:20201026T111917Z
UID:Compromisso-1ecd64b4fcf14810ab1803984c4d07af
SEQUENCE:0
LAST-MODIFIED:20201026T191728Z
SUMMARY:[CANCELADA] - Reunião com a Pró-Reitoria de Gestão de Pessoas (PROGEP)
DESCRIPTION:Demanda interna
LOCATION:Reitoria
PRIORITY:3
TRANSP:0
END:VEVENT
END:VCALENDAR
