BEGIN:VCALENDAR
PRODID:brasil.gov.agenda
VERSION:1.0
BEGIN:VEVENT
DTSTART:20201026T140000Z
DTEND:20201026T150000Z
DCREATED:20201026T135841Z
UID:Compromisso-4119e69a1cee4114a4f7cdd62884a99c
SEQUENCE:0
LAST-MODIFIED:20201026T135841Z
SUMMARY:Reunião com a Secretaria dos Conselhos
DESCRIPTION:Demanda Interna
LOCATION:Reitoria
PRIORITY:3
TRANSP:0
END:VEVENT
END:VCALENDAR
