BEGIN:VCALENDAR
PRODID:brasil.gov.agenda
VERSION:1.0
BEGIN:VEVENT
DTSTART:20201023T100000Z
DTEND:20201023T110000Z
DCREATED:20201023T111614Z
UID:Compromisso-e886e9af14db4d8ca07d548320befcf6
SEQUENCE:0
LAST-MODIFIED:20201023T111614Z
SUMMARY:Reunião Diretoria Educação Aberta e a Distância (DEAD)
DESCRIPTION:Proposta de formação de prefeitos pelo curso de Administ
 ração Pública
LOCATION:Compromisso on-line
PRIORITY:3
TRANSP:0
END:VEVENT
END:VCALENDAR
