BEGIN:VCALENDAR
PRODID:brasil.gov.agenda
VERSION:1.0
BEGIN:VEVENT
DTSTART:20201023T140000Z
DTEND:20201023T143000Z
DCREATED:20201023T112130Z
UID:Compromisso-95b1c00fa2c446c6817bbf5dd50e2623
SEQUENCE:0
LAST-MODIFIED:20201023T121820Z
SUMMARY:Reunião com o Programa de Pós-Graduação em Educação (PPGED)
DESCRIPTION:Encerramento do Termo de Execução Descentralizado celebr
 ado entre o IFNMG e UFVJM para oferta de Turma de Pós-graduação
LOCATION:Reitoria
PRIORITY:3
TRANSP:0
END:VEVENT
END:VCALENDAR
