BEGIN:VCALENDAR
PRODID:brasil.gov.agenda
VERSION:1.0
BEGIN:VEVENT
DTSTART:20201023T160000Z
DTEND:20201023T170000Z
DCREATED:20201023T112927Z
UID:Compromisso-f45f45ceb1b5467eacb61a635733bc2a
SEQUENCE:0
LAST-MODIFIED:20201023T112927Z
SUMMARY:Reunião com Assessoria de Assuntos Estratégicos e Institucionais (AAEI)
DESCRIPTION:Desenvolvimento de Política de Inclusão de acordo com o 
 Ministério do Desenvolvimento Regional
LOCATION:Reitoria
PRIORITY:3
TRANSP:0
END:VEVENT
END:VCALENDAR
