BEGIN:VCALENDAR
PRODID:brasil.gov.agenda
VERSION:1.0
BEGIN:VEVENT
DTSTART:20201023T090000Z
DTEND:20201023T100000Z
DCREATED:20201021T114401Z
UID:Compromisso-4828b063198049678b78bbce9b1f5931
SEQUENCE:0
LAST-MODIFIED:20201021T114419Z
SUMMARY:Reunião com as pró-reitorias: PROAD\, PROGRAD e PROGEP
DESCRIPTION:Serviços Gráficos
LOCATION:Reitoria
PRIORITY:3
TRANSP:0
END:VEVENT
END:VCALENDAR
