BEGIN:VCALENDAR
PRODID:brasil.gov.agenda
VERSION:1.0
BEGIN:VEVENT
DTSTART:20201023T150000Z
DTEND:20201023T160000Z
DCREATED:20201023T112511Z
UID:Compromisso-66b2301f6bb241f89a0669eeeb6e77c0
SEQUENCE:0
LAST-MODIFIED:20201023T113030Z
SUMMARY:Reunião com a Pró-Reitoria de Gestão de Pessoas (PROGEP)
DESCRIPTION:Demandas da PROGEP
LOCATION:Reitoria
PRIORITY:3
TRANSP:0
END:VEVENT
END:VCALENDAR
