BEGIN:VCALENDAR
PRODID:brasil.gov.agenda
VERSION:1.0
BEGIN:VEVENT
DTSTART:20201023T080000Z
DTEND:20201023T090000Z
DCREATED:20201022T195452Z
UID:Compromisso-018dca2304f7412dab194a04b0710eee
SEQUENCE:0
LAST-MODIFIED:20201022T195452Z
SUMMARY:Reunião com a Diretoria de Relações Internacionais
DESCRIPTION:Alinhamento das atividades da DRI
LOCATION:Reitoria
PRIORITY:3
TRANSP:0
END:VEVENT
END:VCALENDAR
