BEGIN:VCALENDAR
PRODID:brasil.gov.agenda
VERSION:1.0
BEGIN:VEVENT
DTSTART:20201023T110000Z
DTEND:20201023T120000Z
DCREATED:20201023T113147Z
UID:Compromisso-2aadd1a87d5b42dabb5d52c1f94c853d
SEQUENCE:0
LAST-MODIFIED:20201023T113234Z
SUMMARY:Despachos Internos
LOCATION:Reitoria
PRIORITY:3
TRANSP:0
END:VEVENT
END:VCALENDAR
