BEGIN:VCALENDAR
PRODID:brasil.gov.agenda
VERSION:1.0
BEGIN:VEVENT
DTSTART:20201021T080000Z
DTEND:20201021T090000Z
DCREATED:20201021T112659Z
UID:Compromisso-a5a027ef17bd455a9044097929c173bc
SEQUENCE:0
LAST-MODIFIED:20201021T112659Z
SUMMARY:Reunião Pró-reitoria de Administração (Proad)
DESCRIPTION:Processos Licitatórios
LOCATION:Reitoria
PRIORITY:3
TRANSP:0
END:VEVENT
END:VCALENDAR
