BEGIN:VCALENDAR
PRODID:brasil.gov.agenda
VERSION:1.0
BEGIN:VEVENT
DTSTART:20201021T140000Z
DTEND:20201021T180000Z
DCREATED:20201019T150324Z
UID:Compromisso-41952dbac7c64bd0877cac1870dff5c3
SEQUENCE:0
LAST-MODIFIED:20201021T114212Z
SUMMARY:Reunião Consu 222ª\, sendo a 86ª sessão convocada em caráter extraordinário
DESCRIPTION:Disponível no portal
LOCATION:Compromisso on-line
PRIORITY:3
TRANSP:0
END:VEVENT
END:VCALENDAR
