BEGIN:VCALENDAR
PRODID:brasil.gov.agenda
VERSION:1.0
BEGIN:VEVENT
DTSTART:20201021T090000Z
DTEND:20201021T092000Z
DCREATED:20201019T145712Z
UID:Compromisso-63124929a0634ab3a6c1c82c43cea037
SEQUENCE:0
LAST-MODIFIED:20201019T145712Z
SUMMARY:Colação de grau antecipada
LOCATION:Reitoria
PRIORITY:3
TRANSP:0
END:VEVENT
END:VCALENDAR
