BEGIN:VCALENDAR
PRODID:brasil.gov.agenda
VERSION:1.0
BEGIN:VEVENT
DTSTART:20201020T160000Z
DTEND:20201020T180000Z
DCREATED:20201019T115052Z
UID:Compromisso-f0524c30ce9943d8b95184e0917f706d
SEQUENCE:0
LAST-MODIFIED:20201019T115229Z
SUMMARY:Reunião com o Instituto de Ciências Agrárias
DESCRIPTION:Protocolo de Compromisso do curso de Agronomia
LOCATION:Compromisso on-line
PRIORITY:3
TRANSP:0
END:VEVENT
END:VCALENDAR
