BEGIN:VCALENDAR
PRODID:brasil.gov.agenda
VERSION:1.0
BEGIN:VEVENT
DTSTART:20201020T090000Z
DTEND:20201020T091500Z
DCREATED:20201019T113832Z
UID:Compromisso-ed50d184cfe94bc1a5b4f03fae79c6c6
SEQUENCE:0
LAST-MODIFIED:20201019T113832Z
SUMMARY:Colação de grau posterior
LOCATION:Reitoria
PRIORITY:3
TRANSP:0
END:VEVENT
END:VCALENDAR
