BEGIN:VCALENDAR
PRODID:brasil.gov.agenda
VERSION:1.0
BEGIN:VEVENT
DTSTART:20200717T080000Z
DTEND:20200717T120000Z
DCREATED:20200714T113854Z
UID:Compromisso-63ed6fd3223244d4b65ca2aefc4288ea
SEQUENCE:0
LAST-MODIFIED:20200716T135752Z
SUMMARY:Reunião Extraordinária do Consepe
DESCRIPTION:Ensino Remoto
LOCATION:Reitoria\, Campus JK\, Diamantina/MG
PRIORITY:3
TRANSP:0
END:VEVENT
END:VCALENDAR
