BEGIN:VCALENDAR
PRODID:brasil.gov.agenda
VERSION:1.0
BEGIN:VEVENT
DTSTART:20200717T140000Z
DTEND:20200717T180000Z
DCREATED:20200716T135833Z
UID:Compromisso-bc805e77d66c416e8a781fa87265e582
SEQUENCE:0
LAST-MODIFIED:20200716T135833Z
SUMMARY:Despacho Interno
LOCATION:Reitoria\, Campus JK\, Diamantina/MG
PRIORITY:3
TRANSP:0
END:VEVENT
END:VCALENDAR
