BEGIN:VCALENDAR
PRODID:brasil.gov.agenda
VERSION:1.0
BEGIN:VEVENT
DTSTART:20200715T081500Z
DTEND:20200715T100000Z
DCREATED:20200714T112553Z
UID:Compromisso-d163221fc6aa4c58a93b7b9e3f821026
SEQUENCE:0
LAST-MODIFIED:20200714T112844Z
SUMMARY:Reunião Comissão de Gestão e Acompanhamento do Sistema Eletrônico de Informações (SEI)
DESCRIPTION:Relatos da situação atual
LOCATION:Compromisso on-line
PRIORITY:3
TRANSP:0
END:VEVENT
END:VCALENDAR
