BEGIN:VCALENDAR
PRODID:brasil.gov.agenda
VERSION:1.0
BEGIN:VEVENT
DTSTART:20200715T140000Z
DTEND:20200715T180000Z
DCREATED:20200714T113003Z
UID:Compromisso-3d625406fbbd4d3db857ff395bea8423
SEQUENCE:0
LAST-MODIFIED:20200714T113003Z
SUMMARY:Reunião Extraordinária do Consu
DESCRIPTION:Recurso Discentes Medicina
LOCATION:Compromisso on-line
PRIORITY:3
TRANSP:0
END:VEVENT
END:VCALENDAR
