BEGIN:VCALENDAR
PRODID:brasil.gov.agenda
VERSION:1.0
BEGIN:VEVENT
DTSTART:20200715T100000Z
DTEND:20200715T120000Z
DCREATED:20200714T112710Z
UID:Compromisso-bdbd397db582477abf472c7799dbf69a
SEQUENCE:0
LAST-MODIFIED:20200714T112747Z
SUMMARY:Reunião Diretoria de Tecnologia da Informação (DTI)
DESCRIPTION:Apresentação de dados da Comissão do PDTI
LOCATION:Reitoria\, Campus JK\, Diamantina/MG
PRIORITY:3
TRANSP:0
END:VEVENT
END:VCALENDAR
