BEGIN:VCALENDAR
PRODID:brasil.gov.agenda
VERSION:1.0
BEGIN:VEVENT
DTSTART:20200714T130000Z
DTEND:20200714T140000Z
DCREATED:20200714T112209Z
UID:Compromisso-49d2ede498f34159bb6be7ee73d503ad
SEQUENCE:0
LAST-MODIFIED:20200714T112209Z
SUMMARY:Viagem a Curvelo
DESCRIPTION:Fazenda Experimental do Moura
LOCATION:Curvelo/MG
PRIORITY:3
TRANSP:0
END:VEVENT
END:VCALENDAR
