BEGIN:VCALENDAR
PRODID:brasil.gov.agenda
VERSION:1.0
BEGIN:VEVENT
DTSTART:20200714T100000Z
DTEND:20200714T113000Z
DCREATED:20200714T111854Z
UID:Compromisso-4b75a1fd7d5c435da282815afb44eca1
SEQUENCE:0
LAST-MODIFIED:20200714T111854Z
SUMMARY:Reunião
DESCRIPTION:Organização da Transparência
LOCATION:Compromisso on-line
PRIORITY:3
TRANSP:0
END:VEVENT
END:VCALENDAR
