BEGIN:VCALENDAR
PRODID:brasil.gov.agenda
VERSION:1.0
BEGIN:VEVENT
DTSTART:20200714T080000Z
DTEND:20200714T100000Z
DCREATED:20200714T111631Z
UID:Compromisso-093d261cfc5947f6b74fa1f1d31a6a27
SEQUENCE:0
LAST-MODIFIED:20200714T111631Z
SUMMARY:Despacho Interno
LOCATION:Reitoria\, Campus JK\, Diamantina/MG
PRIORITY:3
TRANSP:0
END:VEVENT
END:VCALENDAR
