BEGIN:VCALENDAR
PRODID:brasil.gov.agenda
VERSION:1.0
BEGIN:VEVENT
DTSTART:20200713T140000Z
DTEND:20200713T170000Z
DCREATED:20200710T130625Z
UID:Compromisso-f8568bbcb2e248c38ee0c52cde1bb128
SEQUENCE:0
LAST-MODIFIED:20200710T130658Z
SUMMARY:Reunião Pró-reitores
LOCATION:Compromisso on-line
PRIORITY:3
TRANSP:0
END:VEVENT
END:VCALENDAR
