BEGIN:VCALENDAR
PRODID:brasil.gov.agenda
VERSION:1.0
BEGIN:VEVENT
DTSTART:20200713T080000Z
DTEND:20200713T180000Z
DCREATED:20200707T114628Z
UID:Compromisso-147fc850531a4922abe5ce935dedc78f
SEQUENCE:0
LAST-MODIFIED:20200707T114628Z
SUMMARY:Despacho Interno
LOCATION:Reitoria\, Campus JK\, Diamantina/MG
PRIORITY:3
TRANSP:0
END:VEVENT
END:VCALENDAR
