BEGIN:VCALENDAR
PRODID:brasil.gov.agenda
VERSION:1.0
BEGIN:VEVENT
DTSTART:20200713T090000Z
DTEND:20200713T091500Z
DCREATED:20200708T190239Z
UID:Compromisso-c48256f9b90c4ff3b46ca668a5e7ff92
SEQUENCE:0
LAST-MODIFIED:20200708T190239Z
SUMMARY:Colação de grau antecipada
LOCATION:Reitoria\, Campus JK\, Diamantina/MG
PRIORITY:3
TRANSP:0
END:VEVENT
END:VCALENDAR
