BEGIN:VCALENDAR
PRODID:brasil.gov.agenda
VERSION:1.0
BEGIN:VEVENT
DTSTART:20200710T140000Z
DTEND:20200710T150000Z
DCREATED:20200710T125303Z
UID:Compromisso-2d6af9db22174c0c9482a1c3f80ae468
SEQUENCE:0
LAST-MODIFIED:20200710T130125Z
SUMMARY:Reunião Instituto de Desenvolvimento do Norte e Nordeste de Minas Gerais (IDENE)
DESCRIPTION:Desenvolvimento Regional e Parceria
LOCATION:Reitoria\, Campus JK\, Diamantina/MG
PRIORITY:3
TRANSP:0
END:VEVENT
END:VCALENDAR
