BEGIN:VCALENDAR
PRODID:brasil.gov.agenda
VERSION:1.0
BEGIN:VEVENT
DTSTART:20200710T080000Z
DTEND:20200710T120000Z
DCREATED:20200707T114307Z
UID:Compromisso-2fcc3d82c3f5422393593c0abac8dbcc
SEQUENCE:0
LAST-MODIFIED:20200707T114307Z
SUMMARY:Reunião Extraordinária do Conselho Universitário (CONSU)
LOCATION:Compromisso on-line
PRIORITY:3
TRANSP:0
END:VEVENT
END:VCALENDAR
