BEGIN:VCALENDAR
PRODID:brasil.gov.agenda
VERSION:1.0
BEGIN:VEVENT
DTSTART:20200709T081000Z
DTEND:20200709T104000Z
DCREATED:20200707T113040Z
UID:Compromisso-384c32212e8945eaabec61412ce9ff3b
SEQUENCE:0
LAST-MODIFIED:20200707T113040Z
SUMMARY:Reunião
DESCRIPTION:Reestruturação Administrativa da DTI Grupo de Trabalho &
  Sistematização Institucional Recursos TC&I
LOCATION:Compromisso on-line
PRIORITY:3
TRANSP:0
END:VEVENT
END:VCALENDAR
