BEGIN:VCALENDAR
PRODID:brasil.gov.agenda
VERSION:1.0
BEGIN:VEVENT
DTSTART:20200709T110000Z
DTEND:20200709T120000Z
DCREATED:20200703T130022Z
UID:Compromisso-ec9fead11d0d4d4f9c86676a0c91d8d0
SEQUENCE:0
LAST-MODIFIED:20200707T112006Z
SUMMARY:Reunião Comitê de Ética em Pesquisa (CEP)
DESCRIPTION:Processo de Qualificação da UFVJM junto ao CONEP
LOCATION:Compromisso on-line
PRIORITY:3
TRANSP:0
END:VEVENT
END:VCALENDAR
