BEGIN:VCALENDAR
PRODID:brasil.gov.agenda
VERSION:1.0
BEGIN:VEVENT
DTSTART:20200708T140000Z
DTEND:20200708T150000Z
DCREATED:20200707T112820Z
UID:Compromisso-9905cffff2aa43088c43c790330b3f23
SEQUENCE:0
LAST-MODIFIED:20200707T112845Z
SUMMARY:Reunião
DESCRIPTION:Ofício TCU
LOCATION:Reitoria\, Campus JK\, Diamantina/MG
PRIORITY:3
TRANSP:0
END:VEVENT
END:VCALENDAR
