BEGIN:VCALENDAR
PRODID:brasil.gov.agenda
VERSION:1.0
BEGIN:VEVENT
DTSTART:20200708T093000Z
DTEND:20200708T100000Z
DCREATED:20200707T140909Z
UID:Compromisso-d1a937aeaab24b92895c40affdef7d81
SEQUENCE:0
LAST-MODIFIED:20200707T193630Z
SUMMARY:Reunião
DESCRIPTION:Teste COVID - 19
LOCATION:Reitoria\, Campus JK\, Diamantina/MG
PRIORITY:3
TRANSP:0
END:VEVENT
END:VCALENDAR
