BEGIN:VCALENDAR
PRODID:brasil.gov.agenda
VERSION:1.0
BEGIN:VEVENT
DTSTART:20200708T080000Z
DTEND:20200708T093000Z
DCREATED:20200707T112602Z
UID:Compromisso-ebd2cc98299b46babb8696d0d3dcb799
SEQUENCE:0
LAST-MODIFIED:20200707T112632Z
SUMMARY:Reunião  Pró-Reitoria de Planejamento e Orçamento (PROPLAN)
DESCRIPTION:Regimento e portal
LOCATION:Reitoria\, Campus JK\, Diamantina/MG
PRIORITY:3
TRANSP:0
END:VEVENT
END:VCALENDAR
