BEGIN:VCALENDAR
PRODID:brasil.gov.agenda
VERSION:1.0
BEGIN:VEVENT
DTSTART:20200707T150000Z
DTEND:20200707T160000Z
DCREATED:20200707T140740Z
UID:Compromisso-4b36db9740f24a94b99e1de351447281
SEQUENCE:0
LAST-MODIFIED:20200707T141159Z
SUMMARY:Reunião Pró-reitoria de Administração (PROAD)
DESCRIPTION:Planos de trabalho
LOCATION:Compromisso on-line
PRIORITY:3
TRANSP:0
END:VEVENT
END:VCALENDAR
