BEGIN:VCALENDAR
PRODID:brasil.gov.agenda
VERSION:1.0
BEGIN:VEVENT
DTSTART:20200707T160000Z
DTEND:20200707T164500Z
DCREATED:20200703T124042Z
UID:Compromisso-4bc7240b53c646419047ba57c2c1099f
SEQUENCE:0
LAST-MODIFIED:20200707T140811Z
SUMMARY:Reunião Instituto de Ciência e Tecnologia (ICT)
DESCRIPTION:Esclarecimentos
LOCATION:Reitoria\, Campus JK\, Diamantina/MG
PRIORITY:3
TRANSP:0
END:VEVENT
END:VCALENDAR
