BEGIN:VCALENDAR
PRODID:brasil.gov.agenda
VERSION:1.0
BEGIN:VEVENT
DTSTART:20200706T103000Z
DTEND:20200706T110000Z
DCREATED:20200703T122901Z
UID:Compromisso-5ed143cc6f5742ee82ddc8249e2bd4fe
SEQUENCE:0
LAST-MODIFIED:20200703T122901Z
SUMMARY:Secretaria do Consu
LOCATION:Reitoria\, Campus JK\, Diamantina/MG
PRIORITY:3
TRANSP:0
END:VEVENT
END:VCALENDAR
